BEGIN:VCALENDAR
VERSION:2.0
PRODID:-//TYPO3/NONSGML News system (news)//EN
METHOD:PUBLISH
BEGIN:VTIMEZONE
TZID:Europe/Berlin
BEGIN:DAYLIGHT
TZOFFSETFROM:+0100
DTSTART:19810329T020000
RRULE:FREQ=YEARLY;BYMONTH=3;BYDAY=-1SU
TZNAME:MESZ
TZOFFSETTO:+0200
END:DAYLIGHT
BEGIN:STANDARD
TZOFFSETFROM:+0200
DTSTART:19961027T030000
RRULE:FREQ=YEARLY;BYMONTH=10;BYDAY=-1SU
TZNAME:MEZ
TZOFFSETTO:+0100
END:STANDARD
END:VTIMEZONE
BEGIN:VEVENT
UID:news-7010@izwt.uni-wuppertal.de
DTSTAMP:20260415T120021Z
DTSTART;TZID=Europe/Berlin:20250528T180000
DTEND;TZID=Europe/Berlin:20250528T193000

SUMMARY:IZWT lecture series: Torsten Wilholt
DESCRIPTION:<p>IZWT lecture series Torsten Wilholt (Hanover) | Arguments in favour of freedom of research</p>

ATTACH:http://izwt.uni-wuppertal.de/fileadmin/_processed_/4/9/csm_2024-04-25_Ringvorlesung_2024_final_2_a8bcc20788.png

END:VEVENT
END:VCALENDAR
