BEGIN:VCALENDAR
VERSION:2.0
PRODID:-//TYPO3/NONSGML News system (news)//EN
METHOD:PUBLISH
BEGIN:VTIMEZONE
TZID:Europe/Berlin
BEGIN:DAYLIGHT
TZOFFSETFROM:+0100
DTSTART:19810329T020000
RRULE:FREQ=YEARLY;BYMONTH=3;BYDAY=-1SU
TZNAME:MESZ
TZOFFSETTO:+0200
END:DAYLIGHT
BEGIN:STANDARD
TZOFFSETFROM:+0200
DTSTART:19961027T030000
RRULE:FREQ=YEARLY;BYMONTH=10;BYDAY=-1SU
TZNAME:MEZ
TZOFFSETTO:+0100
END:STANDARD
END:VTIMEZONE
BEGIN:VEVENT
UID:news-7480@izwt.uni-wuppertal.de
DTSTAMP:20260422T115219Z
DTSTART;TZID=Europe/Berlin:20260507T104800
DTEND;TZID=Europe/Berlin:20260507T114500

SUMMARY:Oberseminar Geschichte der Mathematik - Vortrag Henning Heller (Bonn)
DESCRIPTION:<p>"Die Richertsche Gymnasialreform 1924/25 aus der Sicht des Mathematikers Otto Toeplitz"</p>



END:VEVENT
END:VCALENDAR
